BEGIN:VCALENDAR
VERSION:2.0
PRODID:-//hacksw/handcal//NONSGML v1.0//EN
BEGIN:VEVENT
SUMMARY:renforcement musculaire
UID:51308a90-5c10-4c1c-a840-5aa03390dba8
DTSTART:20260318T171500Z
DTEND:20260318T181500Z
LOCATION:Localisation   
CATEGORIES:Sportif
STATUS:
URL;VALUE=URI:https://www.canoekayak-nancy.fr/evenements/2026/03/18/renforcement-musculaire-2428642
END:VEVENT
END:VCALENDAR
