BEGIN:VCALENDAR
VERSION:2.0
PRODID:-//hacksw/handcal//NONSGML v1.0//EN
BEGIN:VEVENT
SUMMARY:seance EDP debutant / intermediaire sur l’eau 
UID:b437ec53-2cd1-4a0c-88db-7a32bb4a8bf7
DTSTART:20260318T130000Z
DTEND:20260318T150000Z
LOCATION:Localisation   
CATEGORIES:Sportif
STATUS:
URL;VALUE=URI:https://www.canoekayak-nancy.fr/evenements/2026/03/18/seance-edp-debutant-intermediaire-sur-leau-2429522
END:VEVENT
END:VCALENDAR
