BEGIN:VCALENDAR
VERSION:2.0
PRODID:-//hacksw/handcal//NONSGML v1.0//EN
BEGIN:VEVENT
SUMMARY:seance DB
UID:7f2cdd79-17bd-4e8b-a4c6-1be24302c621
DTSTART:20260321T080000Z
DTEND:20260321T100000Z
LOCATION:Localisation   
CATEGORIES:Sportif
STATUS:
URL;VALUE=URI:https://www.canoekayak-nancy.fr/evenements/2026/03/21/seance-db-2428643
END:VEVENT
END:VCALENDAR
