BEGIN:VCALENDAR
VERSION:2.0
PRODID:-//hacksw/handcal//NONSGML v1.0//EN
BEGIN:VEVENT
SUMMARY:Seance, ecole de Pagaie, intermediaire debutant
UID:8a9d21ad-7f1f-4f5f-8fd5-3cf400071417
DTSTART:20260328T130000Z
DTEND:20260328T150000Z
LOCATION:Localisation   
CATEGORIES:Sportif
STATUS:
URL;VALUE=URI:https://www.canoekayak-nancy.fr/evenements/2026/03/28/seance-ecole-de-pagaie-intermediaire-debutant-2434011
END:VEVENT
END:VCALENDAR
