BEGIN:VCALENDAR
VERSION:2.0
PRODID:-//hacksw/handcal//NONSGML v1.0//EN
BEGIN:VEVENT
SUMMARY:seance Db
UID:b197a989-b1c4-4cfc-a0ae-92442d8d69fa
DTSTART:20260401T160000Z
DTEND:20260401T173000Z
LOCATION:Localisation   
CATEGORIES:Sportif
STATUS:
URL;VALUE=URI:https://www.canoekayak-nancy.fr/evenements/2026/04/01/seance-db-2435425
END:VEVENT
END:VCALENDAR
