BEGIN:VCALENDAR
VERSION:2.0
PRODID:-//hacksw/handcal//NONSGML v1.0//EN
BEGIN:VEVENT
SUMMARY:seance ecole de pagaie sur l’eau
UID:ab31c3ad-27c1-46d4-b3bb-061d9c131b43
DTSTART:20260401T120000Z
DTEND:20260401T140000Z
LOCATION:Localisation   
CATEGORIES:Sportif
STATUS:
URL;VALUE=URI:https://www.canoekayak-nancy.fr/evenements/2026/04/01/seance-ecole-de-pagaie-sur-leau-2435295
END:VEVENT
END:VCALENDAR
