BEGIN:VCALENDAR
VERSION:2.0
PRODID:-//hacksw/handcal//NONSGML v1.0//EN
BEGIN:VEVENT
SUMMARY:seance DB
UID:ac2f4af3-6848-4c9c-b88b-768928e306b7
DTSTART:20260408T160000Z
DTEND:20260408T173000Z
LOCATION:Localisation   
CATEGORIES:Sportif
STATUS:
URL;VALUE=URI:https://www.canoekayak-nancy.fr/evenements/2026/04/08/seance-db-2438499
END:VEVENT
END:VCALENDAR
