BEGIN:VCALENDAR
VERSION:2.0
PRODID:-//hacksw/handcal//NONSGML v1.0//EN
BEGIN:VEVENT
SUMMARY:seance EDP sur l’eau
UID:5050a05c-a922-4196-a29c-bc26cb3ad998
DTSTART:20260408T120000Z
DTEND:20260408T140000Z
LOCATION:Localisation   
CATEGORIES:Sportif
STATUS:
URL;VALUE=URI:https://www.canoekayak-nancy.fr/evenements/2026/04/08/seance-edp-sur-leau-2439028
END:VEVENT
END:VCALENDAR
