BEGIN:VCALENDAR
VERSION:2.0
PRODID:-//hacksw/handcal//NONSGML v1.0//EN
BEGIN:VEVENT
SUMMARY:seance DB + reunion Voga + repas
UID:1472b38f-8e4b-4c35-8b9a-9b2418cea507
DTSTART:20260411T070000Z
DTEND:20260411T120000Z
LOCATION:Localisation   
CATEGORIES:Sportif
STATUS:
URL;VALUE=URI:https://www.canoekayak-nancy.fr/evenements/2026/04/11/seance-db-reunion-voga-repas-2438500
END:VEVENT
END:VCALENDAR
