BEGIN:VCALENDAR
VERSION:2.0
PRODID:-//hacksw/handcal//NONSGML v1.0//EN
BEGIN:VEVENT
SUMMARY:Seance ecole de Pagaie
UID:376e0496-6de8-4ec7-a033-79233197ca89
DTSTART:20260411T120000Z
DTEND:20260411T140000Z
LOCATION:Localisation   
CATEGORIES:Sportif
STATUS:
URL;VALUE=URI:https://www.canoekayak-nancy.fr/evenements/2026/04/11/seance-ecole-de-pagaie-2439045
END:VEVENT
END:VCALENDAR
