BEGIN:VCALENDAR
VERSION:2.0
PRODID:-//hacksw/handcal//NONSGML v1.0//EN
BEGIN:VEVENT
SUMMARY:N3 AUDINCOURT
UID:4afbba3c-fa1c-438e-bfc5-b62e9d15c222
DTSTART:20260412T040000Z
DTEND:20260412T190000Z
LOCATION:Localisation   
CATEGORIES:Sportif
STATUS:
DESCRIPTION: <span
 style="font-family:UICTFontTextStyleBody;font-size:17px;">Bonjour a
 tous, pour la N3 de Audincourt, chargement la veille de la remorque
 apres les gammes, donc a 16h. Si vous ne pouvez pas etre la, demandez
 a quelqu’un de charger a votre place. Pas de chargement le dimanche
 matin !</span><span
 style="font-family:UICTFontTextStyleBody;font-size:17px;"> </span><p
 class="p1" style="font-size:17px;"><span class="s1"
 style="font-family:UICTFontTextStyleBody;">Rdv 5h30 au club le
 dimanche. </span></p><p class="p1" style="font-size:17px;"><span
 class="s1" style="font-family:UICTFontTextStyleBody;">Prevoir repas
 ou argent pour le midi. </span></p>
URL;VALUE=URI:https://www.canoekayak-nancy.fr/evenements/2026/04/12/n3-audincourt-2334469
END:VEVENT
END:VCALENDAR
