BEGIN:VCALENDAR
VERSION:2.0
PRODID:-//hacksw/handcal//NONSGML v1.0//EN
BEGIN:VEVENT
SUMMARY:Sortie Foire
UID:25e0743a-e857-4055-8e2d-556b399084fc
DTSTART:20260427T163000Z
DTEND:20260427T200000Z
LOCATION:Localisation   
CATEGORIES:Festif
STATUS:
DESCRIPTION:<p>Sortie Foire traditionnelle reportee suite au faible
 taux de  personnes presentes . 2 evenements crees (lundi 27 et
 mercredi 29) mais seulement celui avec le plus de participants sera
 maintenus.</p>
URL;VALUE=URI:https://www.canoekayak-nancy.fr/evenements/2026/04/27/sortie-foire-2443296
END:VEVENT
END:VCALENDAR
