BEGIN:VCALENDAR
VERSION:2.0
PRODID:-//hacksw/handcal//NONSGML v1.0//EN
BEGIN:VEVENT
SUMMARY:Sortie Foire
UID:9c656f93-c980-4454-91ba-2fc6ad7405b8
DTSTART:20260429T163000Z
DTEND:20260429T200000Z
LOCATION:Localisation   
CATEGORIES:Festif
STATUS:
DESCRIPTION:<p>Sortie Foire traditionnelle reportee suite au faible
 taux de  personnes presentes . 2 evenements crees (lundi 27 et
 mercredi 29) mais seulement celui avec le plus de participants sera
 maintenus.</p>
URL;VALUE=URI:https://www.canoekayak-nancy.fr/evenements/2026/04/29/sortie-foire-2443301
END:VEVENT
END:VCALENDAR
