BEGIN:VCALENDAR
VERSION:2.0
PRODID:-//hacksw/handcal//NONSGML v1.0//EN
BEGIN:VEVENT
SUMMARY:Seance Loisirs
UID:445186aa-b277-442c-b5f3-240b1e326687
DTSTART:20260509T120000Z
DTEND:20260509T140000Z
LOCATION:Localisation   
CATEGORIES:Sportif
STATUS:
DESCRIPTION:<p>Seance en autonomie en Eau Calme ou Eau Vive</p>
URL;VALUE=URI:https://www.canoekayak-nancy.fr/evenements/2026/05/09/seance-loisirs-2435410
END:VEVENT
END:VCALENDAR
