BEGIN:VCALENDAR
VERSION:2.0
PRODID:-//hacksw/handcal//NONSGML v1.0//EN
BEGIN:VEVENT
SUMMARY:Seance Loisirs
UID:c5fb23f3-db09-4705-b1ce-8f538d4a0516
DTSTART:20260516T120000Z
DTEND:20260516T140000Z
LOCATION:Localisation   
CATEGORIES:Sportif
STATUS:
DESCRIPTION:<p>Seance en autonomie en Eau Calme ou Eau Vive</p>
URL;VALUE=URI:https://www.canoekayak-nancy.fr/evenements/2026/05/16/seance-loisirs-2435409
END:VEVENT
END:VCALENDAR
