BEGIN:VCALENDAR
VERSION:2.0
PRODID:-//hacksw/handcal//NONSGML v1.0//EN
BEGIN:VEVENT
SUMMARY:Seance Loisirs
UID:2ffd021a-d271-404e-bb8a-2212c8c31d3d
DTSTART:20260523T120000Z
DTEND:20260523T140000Z
LOCATION:Localisation   
CATEGORIES:Sportif
STATUS:
DESCRIPTION:<p>Seance en autonomie en Eau Calme ou Eau Vive</p>
URL;VALUE=URI:https://www.canoekayak-nancy.fr/evenements/2026/05/23/seance-loisirs-2435414
END:VEVENT
END:VCALENDAR
