BEGIN:VCALENDAR
VERSION:2.0
PRODID:-//hacksw/handcal//NONSGML v1.0//EN
BEGIN:VEVENT
SUMMARY:manche 3 du challenge departemental course en ligne a Einville
UID:31e067d8-f48c-465b-b784-a57ebb10b92e
DTSTART:20260530T110000Z
DTEND:20260530T160000Z
LOCATION:Localisation   
CATEGORIES:Sportif
STATUS:
URL;VALUE=URI:https://www.canoekayak-nancy.fr/evenements/2026/05/30/manche-3-du-challenge-departemental-course-en-ligne-a-einville-2439511
END:VEVENT
END:VCALENDAR
