BEGIN:VCALENDAR
VERSION:2.0
PRODID:-//hacksw/handcal//NONSGML v1.0//EN
BEGIN:VEVENT
SUMMARY:Seance Loisirs
UID:8d47b09d-4407-4c76-a3d0-4bea2229938a
DTSTART:20260530T120000Z
DTEND:20260530T140000Z
LOCATION:Localisation   
CATEGORIES:Sportif
STATUS:
DESCRIPTION:<p>Seance en autonomie en Eau Calme ou Eau Vive</p>
URL;VALUE=URI:https://www.canoekayak-nancy.fr/evenements/2026/05/30/seance-loisirs-2435413
END:VEVENT
END:VCALENDAR
