BEGIN:VCALENDAR
VERSION:2.0
PRODID:-//hacksw/handcal//NONSGML v1.0//EN
BEGIN:VEVENT
SUMMARY:Reunion sections
UID:793594ae-bc1b-4253-9467-4eb6558bacd7
DTSTART:20260605T180000Z
DTEND:20260605T193000Z
LOCATION:Localisation   
CATEGORIES:Administratif
STATUS:
DESCRIPTION:<p>Reunions de bureau regulieres afin de discuter des
 differents projets et de la vie du club.</p>
URL;VALUE=URI:https://www.canoekayak-nancy.fr/evenements/2026/06/05/reunion-sections-2429535
END:VEVENT
END:VCALENDAR
