BEGIN:VCALENDAR
VERSION:2.0
PRODID:-//hacksw/handcal//NONSGML v1.0//EN
BEGIN:VEVENT
SUMMARY:manche 4 du challenge departemental kayak polo Rosiere aux Salines
UID:7f3e32c4-4f24-4e69-b9f4-9366836c9d5a
DTSTART:20260613T110000Z
DTEND:20260613T160000Z
LOCATION:Localisation   
CATEGORIES:Sportif
STATUS:
URL;VALUE=URI:https://www.canoekayak-nancy.fr/evenements/2026/06/13/manche-4-du-challenge-departemental-kayak-polo-rosiere-aux-salines-2439512
END:VEVENT
END:VCALENDAR
