BEGIN:VCALENDAR
VERSION:2.0
PRODID:-//hacksw/handcal//NONSGML v1.0//EN
BEGIN:VEVENT
SUMMARY:Seance Loisirs
UID:09714325-7578-49c0-a585-5ce3ce1f1823
DTSTART:20260620T120000Z
DTEND:20260620T140000Z
LOCATION:Localisation   
CATEGORIES:Sportif
STATUS:
DESCRIPTION:<p>Seance en autonomie en Eau Calme ou Eau Vive</p>
URL;VALUE=URI:https://www.canoekayak-nancy.fr/evenements/2026/06/20/seance-loisirs-2435416
END:VEVENT
END:VCALENDAR
