BEGIN:VCALENDAR
VERSION:2.0
PRODID:-//hacksw/handcal//NONSGML v1.0//EN
BEGIN:VEVENT
SUMMARY:manche 5 du challenge departemental Blainville
UID:3b866f56-e2fc-4d8b-a83d-7ba9c6d894f2
DTSTART:20260627T110000Z
DTEND:20260627T160000Z
LOCATION:Localisation   
CATEGORIES:Sportif
STATUS:
URL;VALUE=URI:https://www.canoekayak-nancy.fr/evenements/2026/06/27/manche-5-du-challenge-departemental-blainville-2439514
END:VEVENT
END:VCALENDAR
