BEGIN:VCALENDAR
VERSION:2.0
PRODID:-//hacksw/handcal//NONSGML v1.0//EN
BEGIN:VEVENT
SUMMARY:Reunion sections
UID:fc34a052-6110-4d3e-8249-e9eeb454600f
DTSTART:20260703T180000Z
DTEND:20260703T193000Z
LOCATION:Localisation   
CATEGORIES:Administratif
STATUS:
DESCRIPTION:<p>Reunions de bureau regulieres afin de discuter des
 differents projets et de la vie du club.</p>
URL;VALUE=URI:https://www.canoekayak-nancy.fr/evenements/2026/07/03/reunion-sections-2429534
END:VEVENT
END:VCALENDAR
