BEGIN:VCALENDAR
VERSION:2.0
PRODID:-//hacksw/handcal//NONSGML v1.0//EN
BEGIN:VEVENT
SUMMARY:Seance Loisirs
UID:a8d68f43-aa21-4387-928f-ef8edb4b8dba
DTSTART:20260704T120000Z
DTEND:20260704T140000Z
LOCATION:Localisation   
CATEGORIES:Sportif
STATUS:
DESCRIPTION:<p>Seance en autonomie en Eau Calme ou Eau Vive</p>
URL;VALUE=URI:https://www.canoekayak-nancy.fr/evenements/2026/07/04/seance-loisirs-2435408
END:VEVENT
END:VCALENDAR
